BEGIN:VCALENDAR
VERSION:2.0
PRODID:icalendar-ruby
CALSCALE:GREGORIAN
METHOD:PUBLISH
BEGIN:VEVENT
DTSTAMP:20260419T125842Z
UID:44-800009@nccdefiance.com
DTSTART:20260425T140000Z
DTEND:20260425T140000Z
CLASS:PUBLIC
CREATED:20260416T122846
DESCRIPTION: You’re Invited to Our Church Membership Class!\nWe are excit
 ed to invite you to take the next step in your faith journey by joining ou
 r Church Membership Class at New Covenant Church.\n Location:\nNew Covenan
 t Church\n1600 Ayersville Ave\nDefiance\, Ohio\n Date: April 25\, 2026\n T
 ime: 10:00 AM\nCome learn who we are\, what we believe\, and how you can g
 row\, serve\, and belong as part of our church family.\n Scripture Focus:\
 n"For just as we have many members in one body and all the members do not 
 have the same function\, so we\, who are many\, are one body in Christ\, a
 nd individually members one of another."\n— Romans 12:4–5\n Please mak
 e sure your membership packet is completed and turned in before class.\nWe
  look forward to growing together with you!
LAST-MODIFIED:20260416T122846
LOCATION:1600 Ayersville Ave\, Defiance\, OH 43512
SUMMARY:NCC Membership Class
URL;VALUE=URI:https://nccdefiance.com/events/ncc-membership-class/2026-04-2
 5
ATTACH;FILENAME=membership1.png;FMTTYPE=image/png:https://dq5pwpg1q8ru0.clo
 udfront.net/2026/04/16/16/28/45/d6ebf477-17e4-4b56-8950-a9a7c57490a3/membe
 rship1.png
END:VEVENT
END:VCALENDAR
