BEGIN:VCALENDAR
VERSION:2.0
PRODID:icalendar-ruby
CALSCALE:GREGORIAN
METHOD:PUBLISH
BEGIN:VEVENT
DTSTAMP:20260419T125842Z
UID:5-807307@nccdefiance.com
DTSTART:20260419T140000Z
DTEND:20260419T160000Z
CLASS:PUBLIC
CREATED:20260419T073038
DESCRIPTION:Sunday Worship
LAST-MODIFIED:20260419T073038
LOCATION:1600 Ayersville Ave\, Defiance\, OH 43512
SUMMARY:Sunday Worship
URL;VALUE=URI:https://nccdefiance.com/events/sunday-worship/2026-04-19
END:VEVENT
END:VCALENDAR
